BEGIN:VCALENDAR
VERSION:2.0
CALSCALE:GREGORIAN
PRODID:-//Diputació de Barcelona//DibaCMS//EN
BEGIN:VEVENT
UID:30064
DTSTAMP:20260421T223727
DTSTART:20240716T100000
DTEND:20240716T100000
SUMMARY:Visita institucional. Finques Bonallar
LOCATION:
METHOD:PUBLISH
X-WR-CALNAME:oac@montcada.org
X-WR-TIMEZONE:Europe/Madrid
DESCRIPTION:
URI:https://www.montcada.cat/ajuntament/govern/agenda-politica/hemeroteca-agenda-politica/visita-institucional-finques-bonallar.html
CLASS:PUBLIC
END:VEVENT
END:VCALENDAR
