BEGIN:VCALENDAR
VERSION:2.0
CALSCALE:GREGORIAN
PRODID:-//Diputació de Barcelona//DibaCMS//EN
BEGIN:VEVENT
UID:30063
DTSTAMP:20260421T205525
DTSTART:20240714T130000
DTEND:20240714T130000
SUMMARY:Acte. Benedicció Sant Cristòfol
LOCATION:08110 Montcada i Reixac
METHOD:PUBLISH
X-WR-CALNAME:oac@montcada.org
X-WR-TIMEZONE:Europe/Madrid
DESCRIPTION:
URI:https://www.montcada.cat/ajuntament/govern/agenda-politica/hemeroteca-agenda-politica/acte-benediccio-sant-cristofol.html
CLASS:PUBLIC
END:VEVENT
END:VCALENDAR
