BEGIN:VCALENDAR
VERSION:2.0
CALSCALE:GREGORIAN
PRODID:-//Diputació de Barcelona//DibaCMS//EN
BEGIN:VEVENT
UID:30062
DTSTAMP:20260421T194348
DTSTART:20240712T123000
DTEND:20240712T123000
SUMMARY:Acte. Inici d'obres Habitatges Protecció Oficial Mas Rampinyo
LOCATION:Av. Europa cantonada amb carrer Frederic Mompou 
METHOD:PUBLISH
X-WR-CALNAME:oac@montcada.org
X-WR-TIMEZONE:Europe/Madrid
DESCRIPTION:
URI:https://www.montcada.cat/ajuntament/govern/agenda-politica/hemeroteca-agenda-politica/acte-inici-dobres-habitatges-proteccio-oficial-mas-rampinyo.html
CLASS:PUBLIC
END:VEVENT
END:VCALENDAR
