BEGIN:VCALENDAR
VERSION:2.0
CALSCALE:GREGORIAN
PRODID:-//Diputació de Barcelona//DibaCMS//EN
BEGIN:VEVENT
UID:30060
DTSTAMP:20260421T234545
DTSTART:20240709T113000
DTEND:20240709T113000
SUMMARY:Reunió. Marta Martez, escultora i pintora
LOCATION:Av. de la Unitat, 6 08110  Montcada i Reixac
METHOD:PUBLISH
X-WR-CALNAME:oac@montcada.org
X-WR-TIMEZONE:Europe/Madrid
DESCRIPTION:
URI:https://www.montcada.cat/ajuntament/govern/agenda-politica/hemeroteca-agenda-politica/reunio-marta-martez-escultora-i-pintora.html
CLASS:PUBLIC
END:VEVENT
END:VCALENDAR
