BEGIN:VCALENDAR
VERSION:2.0
CALSCALE:GREGORIAN
PRODID:-//Diputació de Barcelona//DibaCMS//EN
BEGIN:VEVENT
UID:30053
DTSTAMP:20260422T034202
DTSTART:20240708T180000
DTEND:20240708T180000
SUMMARY:Acte. Reconeixements empresarials PIMEC
LOCATION:Auditori Terrassa. Carrer de Miquel Vives, 2, 08222 Terrassa, Barcelona 
METHOD:PUBLISH
X-WR-CALNAME:oac@montcada.org
X-WR-TIMEZONE:Europe/Madrid
DESCRIPTION:
URI:https://www.montcada.cat/ajuntament/govern/agenda-politica/hemeroteca-agenda-politica/acte-reconeixements-empresarials-pimec.html
CLASS:PUBLIC
END:VEVENT
END:VCALENDAR
