BEGIN:VCALENDAR
VERSION:2.0
CALSCALE:GREGORIAN
PRODID:-//Diputació de Barcelona//DibaCMS//EN
BEGIN:VEVENT
UID:30046
DTSTAMP:20260422T064148
DTSTART:20240708T093000
DTEND:20240708T093000
SUMMARY:Reunió. Fabian Mohedano, president executiu de l'Agència Pública de Formació i Qualificació Professionals de Catalunya
LOCATION:
METHOD:PUBLISH
X-WR-CALNAME:oac@montcada.org
X-WR-TIMEZONE:Europe/Madrid
DESCRIPTION:
URI:https://www.montcada.cat/ajuntament/govern/agenda-politica/hemeroteca-agenda-politica/reunio-fabian-mohedano-president-executiu-de-lagencia-publica-de-formacio-i-qualificacio-professionals-de-catalunya.html
CLASS:PUBLIC
END:VEVENT
END:VCALENDAR
