BEGIN:VCALENDAR
VERSION:2.0
CALSCALE:GREGORIAN
PRODID:-//Diputació de Barcelona//DibaCMS//EN
BEGIN:VEVENT
UID:30045
DTSTAMP:20260421T181044
DTSTART:20240718T130000
DTEND:20240718T130000
SUMMARY:Reunió. Empresa ACISA
LOCATION:Seu de l'empresa, carrer Ceràmica, nau 7
 
METHOD:PUBLISH
X-WR-CALNAME:oac@montcada.org
X-WR-TIMEZONE:Europe/Madrid
DESCRIPTION:
URI:https://www.montcada.cat/ajuntament/govern/agenda-politica/hemeroteca-agenda-politica/reunio-empresa-acisa.html
CLASS:PUBLIC
END:VEVENT
END:VCALENDAR
