BEGIN:VCALENDAR
VERSION:2.0
CALSCALE:GREGORIAN
PRODID:-//Diputació de Barcelona//DibaCMS//EN
BEGIN:VEVENT
UID:30042
DTSTAMP:20260422T033836
DTSTART:20240705T083000
DTEND:20240705T083000
SUMMARY:Reunió. Francesc Garcia, Centre Comercial El Punt
LOCATION:
METHOD:PUBLISH
X-WR-CALNAME:oac@montcada.org
X-WR-TIMEZONE:Europe/Madrid
DESCRIPTION:
URI:https://www.montcada.cat/ajuntament/govern/agenda-politica/hemeroteca-agenda-politica/reunio-francesc-garcia-centre-comercial-el-punt.html
CLASS:PUBLIC
END:VEVENT
END:VCALENDAR
