BEGIN:VCALENDAR
VERSION:2.0
CALSCALE:GREGORIAN
PRODID:-//Diputació de Barcelona//DibaCMS//EN
BEGIN:VEVENT
UID:30033
DTSTAMP:20260422T053432
DTSTART:20240702T120000
DTEND:20240702T120000
SUMMARY:Acte. Minut de silenci
LOCATION:Av. de la Unitat, 6 08110  Montcada i Reixac
METHOD:PUBLISH
X-WR-CALNAME:oac@montcada.org
X-WR-TIMEZONE:Europe/Madrid
DESCRIPTION:Resposta a la brutal onada de violència masclista

URI:https://www.montcada.cat/ajuntament/govern/agenda-politica/hemeroteca-agenda-politica/acte-minut-de-silenci.html
CLASS:PUBLIC
END:VEVENT
END:VCALENDAR
