BEGIN:VCALENDAR
VERSION:2.0
CALSCALE:GREGORIAN
PRODID:-//Diputació de Barcelona//DibaCMS//EN
BEGIN:VEVENT
UID:30025
DTSTAMP:20260422T024424
DTSTART:20240703T170000
DTEND:20240703T170000
SUMMARY:Acte. Festa d'estiu La Ribera
LOCATION:plaça de la ribera, 0 08110 Montcada i Reixac
METHOD:PUBLISH
X-WR-CALNAME:oac@montcada.org
X-WR-TIMEZONE:Europe/Madrid
DESCRIPTION:
URI:https://www.montcada.cat/ajuntament/govern/agenda-politica/hemeroteca-agenda-politica/acte-festa-destiu-la-ribera.html
CLASS:PUBLIC
END:VEVENT
END:VCALENDAR
