BEGIN:VCALENDAR
VERSION:2.0
CALSCALE:GREGORIAN
PRODID:-//Diputació de Barcelona//DibaCMS//EN
BEGIN:VEVENT
UID:30016
DTSTAMP:20260422T010636
DTSTART:20240629T100000
DTEND:20240629T100000
SUMMARY:Acte. Fira Montcatren
LOCATION:Avinguda Catalunya, 16-18       08110 Montcada i Reixac
METHOD:PUBLISH
X-WR-CALNAME:oac@montcada.org
X-WR-TIMEZONE:Europe/Madrid
DESCRIPTION:
URI:https://www.montcada.cat/ajuntament/govern/agenda-politica/hemeroteca-agenda-politica/acte-fira-montcatren.html
CLASS:PUBLIC
END:VEVENT
END:VCALENDAR
