BEGIN:VCALENDAR
VERSION:2.0
CALSCALE:GREGORIAN
PRODID:-//Diputació de Barcelona//DibaCMS//EN
BEGIN:VEVENT
UID:30012
DTSTAMP:20260422T053514
DTSTART:20240629T110000
DTEND:20240629T110000
SUMMARY:Acte. Ple extraordinari Badia
LOCATION:
METHOD:PUBLISH
X-WR-CALNAME:oac@montcada.org
X-WR-TIMEZONE:Europe/Madrid
DESCRIPTION:
URI:https://www.montcada.cat/ajuntament/govern/agenda-politica/hemeroteca-agenda-politica/acte-ple-extraordinari-badia.html
CLASS:PUBLIC
END:VEVENT
END:VCALENDAR
