BEGIN:VCALENDAR
VERSION:2.0
CALSCALE:GREGORIAN
PRODID:-//Diputació de Barcelona//DibaCMS//EN
BEGIN:VEVENT
UID:30005
DTSTAMP:20260422T031816
DTSTART:20240718T133000
DTEND:20240718T133000
SUMMARY:Reunió. Junta Portaveus AMB
LOCATION:Àrea Metropolitana de Barcelona 
METHOD:PUBLISH
X-WR-CALNAME:oac@montcada.org
X-WR-TIMEZONE:Europe/Madrid
DESCRIPTION:
URI:https://www.montcada.cat/ajuntament/govern/agenda-politica/hemeroteca-agenda-politica/30005-reunio-junta-portaveus-amb.html
CLASS:PUBLIC
END:VEVENT
END:VCALENDAR
