BEGIN:VCALENDAR
VERSION:2.0
CALSCALE:GREGORIAN
PRODID:-//Diputació de Barcelona//DibaCMS//EN
BEGIN:VEVENT
UID:30002
DTSTAMP:20260421T234215
DTSTART:20240717T100000
DTEND:20240717T100000
SUMMARY:Acte. Benvinguda nens saharauis
LOCATION:Av. de la Unitat, 6 08110  Montcada i Reixac
METHOD:PUBLISH
X-WR-CALNAME:oac@montcada.org
X-WR-TIMEZONE:Europe/Madrid
DESCRIPTION:
URI:https://www.montcada.cat/ajuntament/govern/agenda-politica/hemeroteca-agenda-politica/acte-benvinguda-nens-saharauis.html
CLASS:PUBLIC
END:VEVENT
END:VCALENDAR
