BEGIN:VCALENDAR
VERSION:2.0
CALSCALE:GREGORIAN
PRODID:-//Diputació de Barcelona//DibaCMS//EN
BEGIN:VEVENT
UID:30001
DTSTAMP:20260421T210321
DTSTART:20240716T150000
DTEND:20240716T150000
SUMMARY:Reunió. Equip de govern
LOCATION:
METHOD:PUBLISH
X-WR-CALNAME:oac@montcada.org
X-WR-TIMEZONE:Europe/Madrid
DESCRIPTION:
URI:https://www.montcada.cat/ajuntament/govern/agenda-politica/hemeroteca-agenda-politica/30001-reunio-equip-de-govern.html
CLASS:PUBLIC
END:VEVENT
END:VCALENDAR
