BEGIN:VCALENDAR
VERSION:2.0
CALSCALE:GREGORIAN
PRODID:-//Diputació de Barcelona//DibaCMS//EN
BEGIN:VEVENT
UID:29998
DTSTAMP:20260421T211016
DTSTART:20240712T110000
DTEND:20240712T110000
SUMMARY:Reunió. Pepe Sánchez, president Coordinadora Veïnal Baix Besòs
LOCATION:Av. de la Unitat, 6 08110  Montcada i Reixac
METHOD:PUBLISH
X-WR-CALNAME:oac@montcada.org
X-WR-TIMEZONE:Europe/Madrid
DESCRIPTION:
URI:https://www.montcada.cat/ajuntament/govern/agenda-politica/hemeroteca-agenda-politica/reunio-pepe-sanchez-president-coordinadora-veinal-baix-besos.html
CLASS:PUBLIC
END:VEVENT
END:VCALENDAR
