BEGIN:VCALENDAR
VERSION:2.0
CALSCALE:GREGORIAN
PRODID:-//Diputació de Barcelona//DibaCMS//EN
BEGIN:VEVENT
UID:29997
DTSTAMP:20260421T221836
DTSTART:20240711T110000
DTEND:20240711T110000
SUMMARY:Reunió. Xesco Gomar, diputat DIBA i Ajuntament de La Llagosta
LOCATION:Ajuntament de La Llagosta 
METHOD:PUBLISH
X-WR-CALNAME:oac@montcada.org
X-WR-TIMEZONE:Europe/Madrid
DESCRIPTION:Tema: Projectes comuns i infraestructura verda -Riu Besòs-

URI:https://www.montcada.cat/ajuntament/govern/agenda-politica/hemeroteca-agenda-politica/reunio-xesco-gomar-diputat-diba-i-ajuntament-de-la-llagosta.html
CLASS:PUBLIC
END:VEVENT
END:VCALENDAR
