BEGIN:VCALENDAR
VERSION:2.0
CALSCALE:GREGORIAN
PRODID:-//Diputació de Barcelona//DibaCMS//EN
BEGIN:VEVENT
UID:29996
DTSTAMP:20260422T023654
DTSTART:20240711T093000
DTEND:20240711T093000
SUMMARY:Reunió. Consell Ecoparc 4 
LOCATION:
METHOD:PUBLISH
X-WR-CALNAME:oac@montcada.org
X-WR-TIMEZONE:Europe/Madrid
DESCRIPTION:
URI:https://www.montcada.cat/ajuntament/govern/agenda-politica/hemeroteca-agenda-politica/reunio-consell-ecoparc-4-.html
CLASS:PUBLIC
END:VEVENT
END:VCALENDAR
