BEGIN:VCALENDAR
VERSION:2.0
CALSCALE:GREGORIAN
PRODID:-//Diputació de Barcelona//DibaCMS//EN
BEGIN:VEVENT
UID:29990
DTSTAMP:20260422T034145
DTSTART:20240704T183000
DTEND:20240704T183000
SUMMARY:Acte. Presentació llibre Juan Ramón Masoliver
LOCATION:Les Claus de Sant Pere 
METHOD:PUBLISH
X-WR-CALNAME:oac@montcada.org
X-WR-TIMEZONE:Europe/Madrid
DESCRIPTION:
URI:https://www.montcada.cat/ajuntament/govern/agenda-politica/hemeroteca-agenda-politica/acte-presentacio-llibre-juan-ramon-masoliver.html
CLASS:PUBLIC
END:VEVENT
END:VCALENDAR
