BEGIN:VCALENDAR
VERSION:2.0
CALSCALE:GREGORIAN
PRODID:-//Diputació de Barcelona//DibaCMS//EN
BEGIN:VEVENT
UID:29986
DTSTAMP:20260422T025036
DTSTART:20240701T193000
DTEND:20240701T193000
SUMMARY:Acte. Audició de final de curs de l'Aula Municipal de Música
LOCATION:
METHOD:PUBLISH
X-WR-CALNAME:oac@montcada.org
X-WR-TIMEZONE:Europe/Madrid
DESCRIPTION: Guitarra elèctrica i baix

URI:https://www.montcada.cat/ajuntament/govern/agenda-politica/hemeroteca-agenda-politica/29986-acte-audicio-de-final-de-curs-de-laula-municipal-de-musica.html
CLASS:PUBLIC
END:VEVENT
END:VCALENDAR
