BEGIN:VCALENDAR
VERSION:2.0
CALSCALE:GREGORIAN
PRODID:-//Diputació de Barcelona//DibaCMS//EN
BEGIN:VEVENT
UID:29985
DTSTAMP:20260421T235017
DTSTART:20240628T200000
DTEND:20240628T200000
SUMMARY:Acte. Final temporada Unió Sant Joan
LOCATION:Carrer Font, s/n       08110 Montcada i Reixac
METHOD:PUBLISH
X-WR-CALNAME:oac@montcada.org
X-WR-TIMEZONE:Europe/Madrid
DESCRIPTION:
URI:https://www.montcada.cat/ajuntament/govern/agenda-politica/hemeroteca-agenda-politica/acte-final-temporada-unio-sant-joan.html
CLASS:PUBLIC
END:VEVENT
END:VCALENDAR
