BEGIN:VCALENDAR
VERSION:2.0
CALSCALE:GREGORIAN
PRODID:-//Diputació de Barcelona//DibaCMS//EN
BEGIN:VEVENT
UID:29975
DTSTAMP:20260425T135048
DTSTART:20240629T220000
DTEND:20240629T220000
SUMMARY:Teatre. Cabaret Bueno
LOCATION:Carrer Crisantems, s/n       08110 Montcada i Reixac
METHOD:PUBLISH
X-WR-CALNAME:oac@montcada.org
X-WR-TIMEZONE:Europe/Madrid
DESCRIPTION:A càrrec d'Els Titelles

URI:https://www.montcada.cat/actualitat/agenda/29975-teatre-cabaret-bueno.html
CLASS:PUBLIC
END:VEVENT
END:VCALENDAR
