BEGIN:VCALENDAR
VERSION:2.0
CALSCALE:GREGORIAN
PRODID:-//Diputació de Barcelona//DibaCMS//EN
BEGIN:VEVENT
UID:29971
DTSTAMP:20260425T045401
DTSTART:20240723T193000
DTEND:20240908T140000
SUMMARY:Exposició. Meravelles de la Costa Brava
LOCATION:Carrer Major, 32 - Carrer Domènec Fins, 15 08110 Montcada i Reixac
METHOD:PUBLISH
X-WR-CALNAME:oac@montcada.org
X-WR-TIMEZONE:Europe/Madrid
DESCRIPTION:Fotografies d'Antonio Garballo

URI:https://www.montcada.cat/actualitat/agenda/exposicio-meravelles-de-la-costa-brava.html
CLASS:PUBLIC
END:VEVENT
END:VCALENDAR
