BEGIN:VCALENDAR
VERSION:2.0
CALSCALE:GREGORIAN
PRODID:-//Diputació de Barcelona//DibaCMS//EN
BEGIN:VEVENT
UID:29955
DTSTAMP:20260425T031646
DTSTART:20240801T173000
DTEND:20240801T173000
SUMMARY:Art i lectura. Taller de llibres d'artista
LOCATION: c. Tarragona, 32       08110 Montcada i Reixac
METHOD:PUBLISH
X-WR-CALNAME:oac@montcada.org
X-WR-TIMEZONE:Europe/Madrid
DESCRIPTION:A càrrec de personal de la biblioteca

URI:https://www.montcada.cat/actualitat/agenda/art-i-lectura-taller-de-llibres-dartista.html
CLASS:PUBLIC
END:VEVENT
END:VCALENDAR
