BEGIN:VCALENDAR
VERSION:2.0
CALSCALE:GREGORIAN
PRODID:-//Diputació de Barcelona//DibaCMS//EN
BEGIN:VEVENT
UID:29954
DTSTAMP:20260425T032509
DTSTART:20240725T173000
DTEND:20240725T173000
SUMMARY:Laboratori de lectura. Mirar és llegir. Abecedari poètic
LOCATION: c. Tarragona, 32       08110 Montcada i Reixac
METHOD:PUBLISH
X-WR-CALNAME:oac@montcada.org
X-WR-TIMEZONE:Europe/Madrid
DESCRIPTION:A càrrec de personal de la biblioteca

URI:https://www.montcada.cat/actualitat/agenda/laboratori-de-lectura-mirar-es-llegir-abecedari-poetic.html
CLASS:PUBLIC
END:VEVENT
END:VCALENDAR
