BEGIN:VCALENDAR
VERSION:2.0
CALSCALE:GREGORIAN
PRODID:-//Diputació de Barcelona//DibaCMS//EN
BEGIN:VEVENT
UID:29942
DTSTAMP:20260425T151942
DTSTART:20240623T203000
DTEND:20240623T203000
SUMMARY:Arribada de la Flama del Canigó
LOCATION:08110 Montcada i Reixac
METHOD:PUBLISH
X-WR-CALNAME:oac@montcada.org
X-WR-TIMEZONE:Europe/Madrid
DESCRIPTION:
URI:https://www.montcada.cat/actualitat/agenda/arribada-de-la-flama-del-canigo.html
CLASS:PUBLIC
END:VEVENT
END:VCALENDAR
