BEGIN:VCALENDAR
VERSION:2.0
CALSCALE:GREGORIAN
PRODID:-//Diputació de Barcelona//DibaCMS//EN
BEGIN:VEVENT
UID:29939
DTSTAMP:20260425T151428
DTSTART:20240622T203000
DTEND:20240622T203000
SUMMARY:Concert d'estiu Coral Mare de Déu del Turó
LOCATION:Plaça de l'Església, s/n 08110 Montcada i Reixac
METHOD:PUBLISH
X-WR-CALNAME:oac@montcada.org
X-WR-TIMEZONE:Europe/Madrid
DESCRIPTION:
URI:https://www.montcada.cat/actualitat/agenda/concert-destiu-coral-mare-de-deu-del-turo.html
CLASS:PUBLIC
END:VEVENT
END:VCALENDAR
