BEGIN:VCALENDAR
VERSION:2.0
CALSCALE:GREGORIAN
PRODID:-//Diputació de Barcelona//DibaCMS//EN
BEGIN:VEVENT
UID:29938
DTSTAMP:20260422T025421
DTSTART:20240625T153000
DTEND:20240625T153000
SUMMARY:Reunió. Consell escolar escola Elvira Cuyàs
LOCATION:
METHOD:PUBLISH
X-WR-CALNAME:oac@montcada.org
X-WR-TIMEZONE:Europe/Madrid
DESCRIPTION:
URI:https://www.montcada.cat/ajuntament/govern/agenda-politica/hemeroteca-agenda-politica/29938-reunio-consell-escolar-escola-elvira-cuyas.html
CLASS:PUBLIC
END:VEVENT
END:VCALENDAR
