BEGIN:VCALENDAR
VERSION:2.0
CALSCALE:GREGORIAN
PRODID:-//Diputació de Barcelona//DibaCMS//EN
BEGIN:VEVENT
UID:29935
DTSTAMP:20260425T152054
DTSTART:20240622T180000
DTEND:20240622T180000
SUMMARY:Festival fi temporada Gimnàstica Atlàntic
LOCATION:Camí de la Font Freda, 3       08110 Montcada i Reixac
METHOD:PUBLISH
X-WR-CALNAME:oac@montcada.org
X-WR-TIMEZONE:Europe/Madrid
DESCRIPTION:
URI:https://www.montcada.cat/actualitat/agenda/festival-fi-temporada-gimnastica-atlantic.html
CLASS:PUBLIC
END:VEVENT
END:VCALENDAR
