BEGIN:VCALENDAR
VERSION:2.0
CALSCALE:GREGORIAN
PRODID:-//Diputació de Barcelona//DibaCMS//EN
BEGIN:VEVENT
UID:29931
DTSTAMP:20260425T122039
DTSTART:20240627T183000
DTEND:20240627T183000
SUMMARY:Lectura de la Declaració institucional del Ple Municipal
LOCATION:Carrer Major, 32 - Carrer Domènec Fins, 15 08110 Montcada i Reixac
METHOD:PUBLISH
X-WR-CALNAME:oac@montcada.org
X-WR-TIMEZONE:Europe/Madrid
DESCRIPTION:Amb motiu del dia 28 de juny, Dia per a l'Alliberament Lesbià, Gai, Transsexual, Bisexual i Intersexual

URI:https://www.montcada.cat/actualitat/agenda/lectura-de-la-declaracio-institucional-del-ple-municipal.html
CLASS:PUBLIC
END:VEVENT
END:VCALENDAR
