BEGIN:VCALENDAR
VERSION:2.0
CALSCALE:GREGORIAN
PRODID:-//Diputació de Barcelona//DibaCMS//EN
BEGIN:VEVENT
UID:29926
DTSTAMP:20260422T024841
DTSTART:20240703T183000
DTEND:20240703T183000
SUMMARY:Acte. 3a sessió de benvinguda a persones nouvingudes
LOCATION:Carrer Major, 32 - Carrer Domènec Fins, 15 08110 Montcada i Reixac
METHOD:PUBLISH
X-WR-CALNAME:oac@montcada.org
X-WR-TIMEZONE:Europe/Madrid
DESCRIPTION:
URI:https://www.montcada.cat/ajuntament/govern/agenda-politica/hemeroteca-agenda-politica/acte-3a-sessio-de-benvinguda-a-persones-nouvingudes.html
CLASS:PUBLIC
END:VEVENT
END:VCALENDAR
