BEGIN:VCALENDAR
VERSION:2.0
CALSCALE:GREGORIAN
PRODID:-//Diputació de Barcelona//DibaCMS//EN
BEGIN:VEVENT
UID:29925
DTSTAMP:20260422T040319
DTSTART:20240702T183000
DTEND:20240702T183000
SUMMARY:Acte. Presentació del documental "Now you are a woman" d'Alba Muñoz
LOCATION:Carrer Major, 32 - Carrer Domènec Fins, 15 08110 Montcada i Reixac
METHOD:PUBLISH
X-WR-CALNAME:oac@montcada.org
X-WR-TIMEZONE:Europe/Madrid
DESCRIPTION:
URI:https://www.montcada.cat/ajuntament/govern/agenda-politica/hemeroteca-agenda-politica/acte-presentacio-del-documental-now-you-are-a-woman-dalba-munoz.html
CLASS:PUBLIC
END:VEVENT
END:VCALENDAR
