BEGIN:VCALENDAR
VERSION:2.0
CALSCALE:GREGORIAN
PRODID:-//Diputació de Barcelona//DibaCMS//EN
BEGIN:VEVENT
UID:29919
DTSTAMP:20260422T024018
DTSTART:20240621T193000
DTEND:20240621T193000
SUMMARY:Acte. Inauguració obres remodelació Parc del Turó Blau
LOCATION:
METHOD:PUBLISH
X-WR-CALNAME:oac@montcada.org
X-WR-TIMEZONE:Europe/Madrid
DESCRIPTION:
URI:https://www.montcada.cat/ajuntament/govern/agenda-politica/hemeroteca-agenda-politica/acte-inauguracio-obres-remodelacio-parc-del-turo-blau.html
CLASS:PUBLIC
END:VEVENT
END:VCALENDAR
