BEGIN:VCALENDAR
VERSION:2.0
CALSCALE:GREGORIAN
PRODID:-//Diputació de Barcelona//DibaCMS//EN
BEGIN:VEVENT
UID:29915
DTSTAMP:20260422T064654
DTSTART:20240620T190000
DTEND:20240620T190000
SUMMARY:Acte. Graduació ESO Mas Rampinyo
LOCATION:Carrer Joan Miró, 13-15       08110 Montcada i Reixac
METHOD:PUBLISH
X-WR-CALNAME:oac@montcada.org
X-WR-TIMEZONE:Europe/Madrid
DESCRIPTION:
URI:https://www.montcada.cat/ajuntament/govern/agenda-politica/hemeroteca-agenda-politica/acte-graduacio-eso-mas-rampinyo.html
CLASS:PUBLIC
END:VEVENT
END:VCALENDAR
