BEGIN:VCALENDAR
VERSION:2.0
CALSCALE:GREGORIAN
PRODID:-//Diputació de Barcelona//DibaCMS//EN
BEGIN:VEVENT
UID:29906
DTSTAMP:20260422T051011
DTSTART:20240619T103000
DTEND:20240619T103000
SUMMARY:Reunió. Gerent AMB
LOCATION:Àrea metropolitana de Barcelona 
METHOD:PUBLISH
X-WR-CALNAME:oac@montcada.org
X-WR-TIMEZONE:Europe/Madrid
DESCRIPTION:Tema: Pla d’Inversions AMB

URI:https://www.montcada.cat/ajuntament/govern/agenda-politica/hemeroteca-agenda-politica/reunio-gerent-amb.html
CLASS:PUBLIC
END:VEVENT
END:VCALENDAR
