BEGIN:VCALENDAR
VERSION:2.0
CALSCALE:GREGORIAN
PRODID:-//Diputació de Barcelona//DibaCMS//EN
BEGIN:VEVENT
UID:29887
DTSTAMP:20260422T024231
DTSTART:20240625T110000
DTEND:20240625T110000
SUMMARY:Reunió. Entitat Ponts per la Pau i la Nadia Ghulam
LOCATION:Av. de la Unitat, 6 08110  Montcada i Reixac
METHOD:PUBLISH
X-WR-CALNAME:oac@montcada.org
X-WR-TIMEZONE:Europe/Madrid
DESCRIPTION:
URI:https://www.montcada.cat/ajuntament/govern/agenda-politica/hemeroteca-agenda-politica/reunio-entitat-ponts-per-la-pau-i-la-nadia-ghulam.html
CLASS:PUBLIC
END:VEVENT
END:VCALENDAR
