BEGIN:VCALENDAR
VERSION:2.0
CALSCALE:GREGORIAN
PRODID:-//Diputació de Barcelona//DibaCMS//EN
BEGIN:VEVENT
UID:29882
DTSTAMP:20260422T083905
DTSTART:20240621T100000
DTEND:20240621T100000
SUMMARY:Acte. Festa final col·legi Ginesta
LOCATION:Carrer Circumval·lació, s/n       08110 Montcada i Reixac
METHOD:PUBLISH
X-WR-CALNAME:oac@montcada.org
X-WR-TIMEZONE:Europe/Madrid
DESCRIPTION:
URI:https://www.montcada.cat/ajuntament/govern/agenda-politica/hemeroteca-agenda-politica/acte-festa-final-collegi-ginesta.html
CLASS:PUBLIC
END:VEVENT
END:VCALENDAR
