BEGIN:VCALENDAR
VERSION:2.0
CALSCALE:GREGORIAN
PRODID:-//Diputació de Barcelona//DibaCMS//EN
BEGIN:VEVENT
UID:29881
DTSTAMP:20260422T053614
DTSTART:20240620T100000
DTEND:20240620T100000
SUMMARY: Reunió. Activistes Sàhara Occidental
LOCATION:Carrer Major, 32 - Carrer Domènec Fins, 15 08110 Montcada i Reixac
METHOD:PUBLISH
X-WR-CALNAME:oac@montcada.org
X-WR-TIMEZONE:Europe/Madrid
DESCRIPTION:
URI:https://www.montcada.cat/ajuntament/govern/agenda-politica/hemeroteca-agenda-politica/-reunio-activistes-sahara-occidental.html
CLASS:PUBLIC
END:VEVENT
END:VCALENDAR
