BEGIN:VCALENDAR
VERSION:2.0
CALSCALE:GREGORIAN
PRODID:-//Diputació de Barcelona//DibaCMS//EN
BEGIN:VEVENT
UID:29880
DTSTAMP:20260422T053239
DTSTART:20240619T180000
DTEND:20240619T180000
SUMMARY:Acte. pregó festa major Can Sant Joan
LOCATION:
METHOD:PUBLISH
X-WR-CALNAME:oac@montcada.org
X-WR-TIMEZONE:Europe/Madrid
DESCRIPTION:
URI:https://www.montcada.cat/ajuntament/govern/agenda-politica/hemeroteca-agenda-politica/acte-prego-festa-major-can-sant-joan.html
CLASS:PUBLIC
END:VEVENT
END:VCALENDAR
