BEGIN:VCALENDAR
VERSION:2.0
CALSCALE:GREGORIAN
PRODID:-//Diputació de Barcelona//DibaCMS//EN
BEGIN:VEVENT
UID:29871
DTSTAMP:20260424T210251
DTSTART:20240914T090000
DTEND:20240914T090000
SUMMARY:1a Edició Pink Pong
LOCATION:Avinguda Catalunya, 16-18       08110 Montcada i Reixac
METHOD:PUBLISH
X-WR-CALNAME:oac@montcada.org
X-WR-TIMEZONE:Europe/Madrid
DESCRIPTION:
URI:https://www.montcada.cat/actualitat/agenda/1a-edicio-pink-pong.html
CLASS:PUBLIC
END:VEVENT
END:VCALENDAR
