BEGIN:VCALENDAR
VERSION:2.0
CALSCALE:GREGORIAN
PRODID:-//Diputació de Barcelona//DibaCMS//EN
BEGIN:VEVENT
UID:29869
DTSTAMP:20260425T181904
DTSTART:20240615T000000
DTEND:20240615T000000
SUMMARY:Diada esportiva Salvador Benítez i II Trobada màster
LOCATION:Passeig Sant Joan Baptista de la Salle, 1       08110 Montcada i Reixac
METHOD:PUBLISH
X-WR-CALNAME:oac@montcada.org
X-WR-TIMEZONE:Europe/Madrid
DESCRIPTION:
URI:https://www.montcada.cat/actualitat/agenda/diada-esportiva-salvador-benitez-i-ii-trobada-master.html
CLASS:PUBLIC
END:VEVENT
END:VCALENDAR
