BEGIN:VCALENDAR
VERSION:2.0
CALSCALE:GREGORIAN
PRODID:-//Diputació de Barcelona//DibaCMS//EN
BEGIN:VEVENT
UID:29867
DTSTAMP:20260425T163939
DTSTART:20240617T170000
DTEND:20240620T183000
SUMMARY:Sessions informatives participatives modificació Pla General Metropolità de la zona 21
LOCATION:Carretera N-150, km 2,6       08110 Montcada i Reixac
METHOD:PUBLISH
X-WR-CALNAME:oac@montcada.org
X-WR-TIMEZONE:Europe/Madrid
DESCRIPTION:
URI:https://www.montcada.cat/actualitat/agenda/sessions-informatives-participatives-modificacio-pla-general-metropolita-de-la-zona-21.html
CLASS:PUBLIC
END:VEVENT
END:VCALENDAR
