BEGIN:VCALENDAR
VERSION:2.0
CALSCALE:GREGORIAN
PRODID:-//Diputació de Barcelona//DibaCMS//EN
BEGIN:VEVENT
UID:29858
DTSTAMP:20260422T080519
DTSTART:20240620T173000
DTEND:20240620T173000
SUMMARY:Acte. Dia internacional de les persones refugiades 2024
LOCATION:08110 Montcada i Reixac
METHOD:PUBLISH
X-WR-CALNAME:oac@montcada.org
X-WR-TIMEZONE:Europe/Madrid
DESCRIPTION:
URI:https://www.montcada.cat/ajuntament/govern/agenda-politica/hemeroteca-agenda-politica/acte-dia-internacional-de-les-persones-refugiades-2024.html
CLASS:PUBLIC
END:VEVENT
END:VCALENDAR
