BEGIN:VCALENDAR
VERSION:2.0
CALSCALE:GREGORIAN
PRODID:-//Diputació de Barcelona//DibaCMS//EN
BEGIN:VEVENT
UID:29856
DTSTAMP:20260422T053325
DTSTART:20240619T180000
DTEND:20240619T180000
SUMMARY:Acte. Audició de final de curs de l'Aula Municipal de Música: Cant
LOCATION: pl. de l'Església, 12       08110 Montcada i Reixac
METHOD:PUBLISH
X-WR-CALNAME:oac@montcada.org
X-WR-TIMEZONE:Europe/Madrid
DESCRIPTION:
URI:https://www.montcada.cat/ajuntament/govern/agenda-politica/hemeroteca-agenda-politica/acte-audicio-de-final-de-curs-de-laula-municipal-de-musica-cant.html
CLASS:PUBLIC
END:VEVENT
END:VCALENDAR
