BEGIN:VCALENDAR
VERSION:2.0
CALSCALE:GREGORIAN
PRODID:-//Diputació de Barcelona//DibaCMS//EN
BEGIN:VEVENT
UID:29848
DTSTAMP:20260422T063603
DTSTART:20240618T110000
DTEND:20240618T110000
SUMMARY:Acte. Presentació Programa Transició Ecològica 2030
LOCATION:
METHOD:PUBLISH
X-WR-CALNAME:oac@montcada.org
X-WR-TIMEZONE:Europe/Madrid
DESCRIPTION:
URI:https://www.montcada.cat/ajuntament/govern/agenda-politica/hemeroteca-agenda-politica/acte-presentacio-programa-transicio-ecologica-2030.html
CLASS:PUBLIC
END:VEVENT
END:VCALENDAR
