BEGIN:VCALENDAR
VERSION:2.0
CALSCALE:GREGORIAN
PRODID:-//Diputació de Barcelona//DibaCMS//EN
BEGIN:VEVENT
UID:29847
DTSTAMP:20260422T040559
DTSTART:20240618T093000
DTEND:20240618T093000
SUMMARY:Reunió. Consell Normalització Lingüística i Servei Local de Català
LOCATION:
METHOD:PUBLISH
X-WR-CALNAME:oac@montcada.org
X-WR-TIMEZONE:Europe/Madrid
DESCRIPTION:
URI:https://www.montcada.cat/ajuntament/govern/agenda-politica/hemeroteca-agenda-politica/29847-reunio-consell-normalitzacio-linguistica-i-servei-local-de-catala.html
CLASS:PUBLIC
END:VEVENT
END:VCALENDAR
