BEGIN:VCALENDAR
VERSION:2.0
CALSCALE:GREGORIAN
PRODID:-//Diputació de Barcelona//DibaCMS//EN
BEGIN:VEVENT
UID:29846
DTSTAMP:20260422T065932
DTSTART:20240615T103000
DTEND:20240615T103000
SUMMARY:Acte. Aula música La Unió 25 aniversari
LOCATION:
METHOD:PUBLISH
X-WR-CALNAME:oac@montcada.org
X-WR-TIMEZONE:Europe/Madrid
DESCRIPTION:
URI:https://www.montcada.cat/ajuntament/govern/agenda-politica/hemeroteca-agenda-politica/acte-aula-musica-la-unio-25-aniversari.html
CLASS:PUBLIC
END:VEVENT
END:VCALENDAR
