BEGIN:VCALENDAR
VERSION:2.0
CALSCALE:GREGORIAN
PRODID:-//Diputació de Barcelona//DibaCMS//EN
BEGIN:VEVENT
UID:29832
DTSTAMP:20260425T140853
DTSTART:20240627T180000
DTEND:20240627T180000
SUMMARY:Concert de combos
LOCATION:08110 Montcada i Reixac
METHOD:PUBLISH
X-WR-CALNAME:oac@montcada.org
X-WR-TIMEZONE:Europe/Madrid
DESCRIPTION:De l'Aula Municipal de Música

URI:https://www.montcada.cat/actualitat/agenda/concert-de-combos.html
CLASS:PUBLIC
END:VEVENT
END:VCALENDAR
