BEGIN:VCALENDAR
VERSION:2.0
CALSCALE:GREGORIAN
PRODID:-//Diputació de Barcelona//DibaCMS//EN
BEGIN:VEVENT
UID:29820
DTSTAMP:20260425T181137
DTSTART:20240614T100000
DTEND:20240614T100000
SUMMARY:Penjada vestit vermell
LOCATION:Progrés, 29 08110 Montcada i Reixac
METHOD:PUBLISH
X-WR-CALNAME:oac@montcada.org
X-WR-TIMEZONE:Europe/Madrid
DESCRIPTION:Perquè a Montcada i Reixac, per cada feminicidi, un vestit vermell

URI:https://www.montcada.cat/actualitat/agenda/penjada-vestit-vermell.html
CLASS:PUBLIC
END:VEVENT
END:VCALENDAR
