BEGIN:VCALENDAR
VERSION:2.0
CALSCALE:GREGORIAN
PRODID:-//Diputació de Barcelona//DibaCMS//EN
BEGIN:VEVENT
UID:29814
DTSTAMP:20260425T181022
DTSTART:20240619T180000
DTEND:20240624T223000
SUMMARY:Festa Major can Sant Joan 2024
LOCATION:
METHOD:PUBLISH
X-WR-CALNAME:oac@montcada.org
X-WR-TIMEZONE:Europe/Madrid
DESCRIPTION:
URI:https://www.montcada.cat/actualitat/agenda/festa-major-can-sant-joan-2024.html
CLASS:PUBLIC
END:VEVENT
END:VCALENDAR
